BEGIN:VCALENDAR
VERSION:2.0
PRODID:icalendar-ruby
CALSCALE:GREGORIAN
METHOD:PUBLISH
BEGIN:VEVENT
DTSTAMP:20260425T134044Z
UID:2-1229816@newzionchristianchurch.org
DTSTART:20240222T230000Z
DTEND:20240222T233000Z
CLASS:PUBLIC
CREATED:20260425T070903
DESCRIPTION:Teens and Young Adults! We're looking for you! Join us weekly f
 or conversations on Zoom about the bible and how it fits in our world toda
 y. \n 
LAST-MODIFIED:20260425T070903
LOCATION:https://thezonline.org/teenbiblestudy
SUMMARY:F.U.T.U.R.E. Bible Study Every Thursday
URL;VALUE=URI:https://www.newzionchristianchurch.org/events/f-u-t-u-r-e-bib
 le-study-every-thursday--2/2024-02-22
ATTACH;FILENAME=Teen-Bible-Study.png;FMTTYPE=image/png:https://dq5pwpg1q8ru
 0.cloudfront.net/2022/08/15/12/34/40/cf98df1b-903d-4ab6-afeb-df6d8c8029d8/
 Teen-Bible-Study.png
END:VEVENT
END:VCALENDAR
